BEGIN:VCALENDAR
VERSION:2.0
PRODID:-//Stiftung Kinder- und Jugendarbeit - ECPv6.15.20//NONSGML v1.0//EN
CALSCALE:GREGORIAN
METHOD:PUBLISH
X-WR-CALNAME:Stiftung Kinder- und Jugendarbeit
X-ORIGINAL-URL:https://stiftung.dkws.de
X-WR-CALDESC:Veranstaltungen für Stiftung Kinder- und Jugendarbeit
REFRESH-INTERVAL;VALUE=DURATION:PT1H
X-Robots-Tag:noindex
X-PUBLISHED-TTL:PT1H
BEGIN:VTIMEZONE
TZID:Europe/Berlin
BEGIN:DAYLIGHT
TZOFFSETFROM:+0100
TZOFFSETTO:+0200
TZNAME:CEST
DTSTART:20210328T010000
END:DAYLIGHT
BEGIN:STANDARD
TZOFFSETFROM:+0200
TZOFFSETTO:+0100
TZNAME:CET
DTSTART:20211031T010000
END:STANDARD
BEGIN:DAYLIGHT
TZOFFSETFROM:+0100
TZOFFSETTO:+0200
TZNAME:CEST
DTSTART:20220327T010000
END:DAYLIGHT
BEGIN:STANDARD
TZOFFSETFROM:+0200
TZOFFSETTO:+0100
TZNAME:CET
DTSTART:20221030T010000
END:STANDARD
BEGIN:DAYLIGHT
TZOFFSETFROM:+0100
TZOFFSETTO:+0200
TZNAME:CEST
DTSTART:20230326T010000
END:DAYLIGHT
BEGIN:STANDARD
TZOFFSETFROM:+0200
TZOFFSETTO:+0100
TZNAME:CET
DTSTART:20231029T010000
END:STANDARD
END:VTIMEZONE
BEGIN:VEVENT
DTSTART;TZID=Europe/Berlin:20221018T200000
DTEND;TZID=Europe/Berlin:20221018T213000
DTSTAMP:20260424T230849
CREATED:20220725T091640Z
LAST-MODIFIED:20220725T091640Z
UID:477-1666123200-1666128600@stiftung.dkws.de
SUMMARY:Karl der Große
DESCRIPTION:Mit welchem Pass würde Karl der Große heute durch Europa reisen\, wenn er als Zeitgenosse unter uns lebte? Die Antwort auf diese Frage hat Deutsche und Franzosen über Jahrhunderte zutiefst gespalten. Als nach dem Zweiten Weltkrieg Versöhnung zwischen den Völkern das Gebot der Stunde war\, suchte man nach Symbolen\, in denen sich alle Europäer nach Möglichkeit wiederfinden konnten. Politiker entdeckten in dem Kaiser einen „Vorzeige-Europäer“\, nach dem sie einen Preis benannten\, der denen verliehen werden soll\, die sich um die Förderung der Europa-Idee besonders verdient gemacht haben. \nDer zeitliche Abstand von 1200 Jahren erleichterte die Wahl\, da sein Bild jedenfalls nicht mehr durch der Parteien Gunst und Hass verwirrt war. Vertiefte Geschichtskenntnis war nicht gefragt\, die Hauptsache war\, dass man eine Galionsfigur gefunden hatte\, um die sich alle scharen konnten. \nAber was ist an Karl wirklich europäisch in unserem Sinne? Was hat uns nach so langer Zeit dieser Herrscher\, für den Staat und Kirche noch keine getrennten Sphären waren\, heute noch zu sagen? Was ist von seinem Werk geblieben\, das die Nachwelt veranlasst hat\, ihm den Beinamen „Der Große“ zu verleihen? \nDiesen Fragen möchte Herr Dr. Wolf Roth in einem Vortrag unter dem Titel „Karl der Große – Kriegsherr und Glaubenswächter“ nachgehen\, zu dem die Stiftung für Kinder- und Jugendarbeit Hösel am Dienstag\, den 18.Oktober 2022 um 20.00 Uhr in das Gemeindehaus der Ev. Kirchengemeinde Hösel\, Bahnhofstraße 175\, ganz herzlich einlädt. Der Eintritt ist frei\, eine Spende zugunsten der Stiftung ist willkommen
URL:https://stiftung.dkws.de/event/karl-der-grosse-2/
LOCATION:Evangelisches Gemeindehaus Hösel\, Bahnhofstr. 175\, Ratingen\, 40883\, Deutschland
CATEGORIES:Vorträge
ORGANIZER;CN="Stiftung Kinder- und Jugendarbeit":MAILTO:veranstaltungen@stiftung-hoesel.de
END:VEVENT
END:VCALENDAR