BEGIN:VCALENDAR
VERSION:2.0
PRODID:-//Stiftung Kinder- und Jugendarbeit - ECPv6.15.20//NONSGML v1.0//EN
CALSCALE:GREGORIAN
METHOD:PUBLISH
X-WR-CALNAME:Stiftung Kinder- und Jugendarbeit
X-ORIGINAL-URL:https://stiftung.dkws.de
X-WR-CALDESC:Veranstaltungen für Stiftung Kinder- und Jugendarbeit
REFRESH-INTERVAL;VALUE=DURATION:PT1H
X-Robots-Tag:noindex
X-PUBLISHED-TTL:PT1H
BEGIN:VTIMEZONE
TZID:Europe/Berlin
BEGIN:DAYLIGHT
TZOFFSETFROM:+0100
TZOFFSETTO:+0200
TZNAME:CEST
DTSTART:20220327T010000
END:DAYLIGHT
BEGIN:STANDARD
TZOFFSETFROM:+0200
TZOFFSETTO:+0100
TZNAME:CET
DTSTART:20221030T010000
END:STANDARD
BEGIN:DAYLIGHT
TZOFFSETFROM:+0100
TZOFFSETTO:+0200
TZNAME:CEST
DTSTART:20230326T010000
END:DAYLIGHT
BEGIN:STANDARD
TZOFFSETFROM:+0200
TZOFFSETTO:+0100
TZNAME:CET
DTSTART:20231029T010000
END:STANDARD
BEGIN:DAYLIGHT
TZOFFSETFROM:+0100
TZOFFSETTO:+0200
TZNAME:CEST
DTSTART:20240331T010000
END:DAYLIGHT
BEGIN:STANDARD
TZOFFSETFROM:+0200
TZOFFSETTO:+0100
TZNAME:CET
DTSTART:20241027T010000
END:STANDARD
END:VTIMEZONE
BEGIN:VEVENT
DTSTART;TZID=Europe/Berlin:20231106T193000
DTEND;TZID=Europe/Berlin:20231106T210000
DTSTAMP:20260424T043630
CREATED:20230407T174703Z
LAST-MODIFIED:20230407T174703Z
UID:479-1699299000-1699304400@stiftung.dkws.de
SUMMARY:Pilgerreise zum Heiligen Berg Athos
DESCRIPTION:AudioVision in 4 Teilen von Konrad Langer\nDen Heiligen Berg Athos auf dem dritten Finger der Chalkidike in Nordgriechenland dürfen nur Männer betreten\, wie es in der 1000 Jahre alten Gründungsurkunde zum Berg Athos festgeschrieben ist. Der Berg Athos ist eine Autonome Mönchsrepublik innerhalb Griechenlands. Pilger müssen lange vorher ein Visum beantragen\, mit dem sie dann für 4 Tage einreisen dürfen. \n\nIm Prolog der AudioVision wird der Zuschauer atmosphärisch auf den Berg Athos eingestimmt. Die Einreise ist nur mit dem Schiff über den Hafen Dafni möglich und beginnt dann im Verwaltungsort Karies der Mönchsrepublik. Das Kloster Koutloumousio ist die erste Herberge am Mittwoch in der Osterwoche\, und ich bin jetzt hier als Pilger gleichsam ein Mönch auf Zeit. Am Gründonnerstag bin ich Gast im Großkloster Vatopediou und am Karfreitag erlebe ich die nächtliche Prozession mit dem Epitaphios im bulgarischen Kloster Zografou. Am Karsamstag bringt mich die kleine Fähre Agía Anna zum Kloster Xenofontos.\nIm Kloster Xenofontos erlebe ich den Höhepunkt der Pilgerreise zum Griechisch-Orthodoxen Osterfest:\n\nIn der Nacht aller Nächte\, in der Osternacht auf den Sonntag erklingen die Glocken wieder in voller Stärke über den ganzen Athos als Ausdruck der Freude über die Auferstehung des Herrn. \n\nAm Ostersonntag erreiche ich mittags das kleine Mönchsdorf Nea Skiti und erlebe noch einmal die Freude der Mönche über die Auferstehung Christi bei einer österlichen Vesper und dem anschließenden Festmahl. In Nea Skiti bleibe ich zwei Nächte und erlebe stille Tage in der Skite bei Vater Nikon und nehme teil an der Ikonenprozession durch Nea Skiti.\nAm 7. Tag besuche ich die Skite Agía Anna mit ihrer wertvollen Reliquie\, einem Fuß der Heiligen Anna\, der Mutter Mariens. Eine Wanderung zum Kloster der Daniels-Bruderschaft von Katounakia mit der berühmten Ikonenmalschule ist mein geplantes Ziel. Der 8.Tag ist gekommen – Es ist der Ausreisetag vom Berg Athos.\nEin Jahr später im September bin ich nochmals auf dem Athos und besuche die Klöster Grigoriou\, Simonos Petras\, Dyonisiou und noch einmal das Mönchsdorf Nea Skiti. Die Bilder aus den Klöstern und die Erlebnisse bei den Mönchen vom Berge Athos bewahre ich hier in der Audiovision\, in einem Fotobuch und in meiner Erinnerung.\n\nDer Eintritt ist frei\, eine Spende zugunsten der Stiftung ist willkommen
URL:https://stiftung.dkws.de/event/pilgerreise-zum-heiligen-berg-athos-2/
LOCATION:Evangelisches Gemeindehaus Hösel\, Bahnhofstr. 175\, Ratingen\, 40883\, Deutschland
CATEGORIES:Vorträge
ATTACH;FMTTYPE=image/jpeg:https://stiftung.dkws.de/wp-content/uploads/2023/04/Athos-scaled-1.jpg
ORGANIZER;CN="Stiftung Kinder- und Jugendarbeit":MAILTO:veranstaltungen@stiftung-hoesel.de
END:VEVENT
END:VCALENDAR