BEGIN:VCALENDAR
VERSION:2.0
PRODID:-//Stiftung Kinder- und Jugendarbeit - ECPv6.15.20//NONSGML v1.0//EN
CALSCALE:GREGORIAN
METHOD:PUBLISH
X-ORIGINAL-URL:https://stiftung.dkws.de
X-WR-CALDESC:Veranstaltungen für Stiftung Kinder- und Jugendarbeit
REFRESH-INTERVAL;VALUE=DURATION:PT1H
X-Robots-Tag:noindex
X-PUBLISHED-TTL:PT1H
BEGIN:VTIMEZONE
TZID:Europe/Berlin
BEGIN:DAYLIGHT
TZOFFSETFROM:+0100
TZOFFSETTO:+0200
TZNAME:CEST
DTSTART:20240331T010000
END:DAYLIGHT
BEGIN:STANDARD
TZOFFSETFROM:+0200
TZOFFSETTO:+0100
TZNAME:CET
DTSTART:20241027T010000
END:STANDARD
BEGIN:DAYLIGHT
TZOFFSETFROM:+0100
TZOFFSETTO:+0200
TZNAME:CEST
DTSTART:20250330T010000
END:DAYLIGHT
BEGIN:STANDARD
TZOFFSETFROM:+0200
TZOFFSETTO:+0100
TZNAME:CET
DTSTART:20251026T010000
END:STANDARD
BEGIN:DAYLIGHT
TZOFFSETFROM:+0100
TZOFFSETTO:+0200
TZNAME:CEST
DTSTART:20260329T010000
END:DAYLIGHT
BEGIN:STANDARD
TZOFFSETFROM:+0200
TZOFFSETTO:+0100
TZNAME:CET
DTSTART:20261025T010000
END:STANDARD
END:VTIMEZONE
BEGIN:VEVENT
DTSTART;TZID=Europe/Berlin:20251129T140000
DTEND;TZID=Europe/Berlin:20251129T170000
DTSTAMP:20260422T214422
CREATED:20250317T122459Z
LAST-MODIFIED:20250317T122459Z
UID:486-1764424800-1764435600@stiftung.dkws.de
SUMMARY:Adventscafé im Gemeindehaus
DESCRIPTION:Viele Menschen empfinden die Adventszeit als die gemütlichste Zeit des Jahres\, in der man unterhaltsame Stunden im Kreise der Familie und Freunden verbringt. \nEine Gelegenheit hierzu ist das Adventscafé im Evangelischen Gemeindehaus \nam Samstag\, den 29.11.2025\, 14.00 bis 17.00 Uhr. \nDie Stiftung Kinder- und Jugendarbeit lädt herzlich ein ins Foyer des Gemeindehauses. Dort gibt es Kaffee und Tee\, frisch gebackene Waffeln und Kuchen – und einen Platz zum Verweilen\, Reden und Kraft tanken. \nÜber Spenden beim Adventscafé freut sich die Stiftung. Sie unterstützen damit\ndie Kinder- und Jugendarbeit in der Ev. Kirchengemeinde Hösel.
URL:https://stiftung.dkws.de/event/adventscafe-3-2/
LOCATION:Evangelisches Gemeindehaus Hösel\, Bahnhofstr. 175\, Ratingen\, 40883\, Deutschland
CATEGORIES:Angebote der Stiftung
ORGANIZER;CN="Stiftung Kinder- und Jugendarbeit":MAILTO:veranstaltungen@stiftung-hoesel.de
END:VEVENT
END:VCALENDAR