BEGIN:VCALENDAR
VERSION:2.0
PRODID:-//Stiftung Kinder- und Jugendarbeit - ECPv6.15.20//NONSGML v1.0//EN
CALSCALE:GREGORIAN
METHOD:PUBLISH
X-ORIGINAL-URL:https://stiftung.dkws.de
X-WR-CALDESC:Veranstaltungen für Stiftung Kinder- und Jugendarbeit
REFRESH-INTERVAL;VALUE=DURATION:PT1H
X-Robots-Tag:noindex
X-PUBLISHED-TTL:PT1H
BEGIN:VTIMEZONE
TZID:Europe/Berlin
BEGIN:DAYLIGHT
TZOFFSETFROM:+0100
TZOFFSETTO:+0200
TZNAME:CEST
DTSTART:20250330T010000
END:DAYLIGHT
BEGIN:STANDARD
TZOFFSETFROM:+0200
TZOFFSETTO:+0100
TZNAME:CET
DTSTART:20251026T010000
END:STANDARD
BEGIN:DAYLIGHT
TZOFFSETFROM:+0100
TZOFFSETTO:+0200
TZNAME:CEST
DTSTART:20260329T010000
END:DAYLIGHT
BEGIN:STANDARD
TZOFFSETFROM:+0200
TZOFFSETTO:+0100
TZNAME:CET
DTSTART:20261025T010000
END:STANDARD
BEGIN:DAYLIGHT
TZOFFSETFROM:+0100
TZOFFSETTO:+0200
TZNAME:CEST
DTSTART:20270328T010000
END:DAYLIGHT
BEGIN:STANDARD
TZOFFSETFROM:+0200
TZOFFSETTO:+0100
TZNAME:CET
DTSTART:20271031T010000
END:STANDARD
END:VTIMEZONE
BEGIN:VEVENT
DTSTART;VALUE=DATE:20260620
DTEND;VALUE=DATE:20260621
DTSTAMP:20260420T130334
CREATED:20260306T140318Z
LAST-MODIFIED:20260306T140318Z
UID:384-1781913600-1781999999@stiftung.dkws.de
SUMMARY:"Mit Glauben zum Ziel" — von der Ruhrquelle nach Hösel
DESCRIPTION:Ihr fahrt gerne Fahrrad und seid gerne mit netten Menschen unterwegs? Ihr sucht eine Herausforderung? \nDann ist die Fahrradtour „Mit Glauben zum Ziel“ genau das Richtige für euch und ihr solltet euch Samstag\, den 20 Juni 2026 freihalten. \nDie Tour findet seit 2017 jedes Jahr statt und wird von der Höseler Stiftung für Kinder- und Jugendarbeit und der Evangelischen Kirchengemeinde Hösel organisiert. Dieses Jahr fahren wir wieder die Original Tour von der Ruhrquelle nach Hösel. \nWir suchen auch in diesem Jahr Radfahrer\, die die sportliche Herausforderung annehmen\, Mitstreiter\, die gerne bei den Vorbereitungen und der Umsetzung helfen oder Menschen\, die die Tour gerne fördern möchten. Bei Anmeldung wird ein Startgeld\, abhängig von der Länge der Radtour\, erhoben. Davon bestreiten wir die Kosten der Tour\, insbesondere der Verpflegung. Überschüsse und freiwillige Spenden gehen an die Stiftung für Kinder- und Jugendarbeit in Hösel. \nDie Freude am Radfahren steht wie immer im Vordergrund und JEDER kann mit seinem Fahrrad mitfahren. Für das leibliche Wohl wird gesorgt und auch ein „Besenwagen“ für Notfälle steht bereit — alle kommen wieder ans Ziel und dürfen dann auf der Gemeindewiese bei einem geselligen Grillfest entspannen. \nMeldet euch gerne über das Anmeldeformular (pdf) an oder nutzt die Online-Anmeldung unter folgendem Link: Mit Glauben zum Ziel (Ev. KGM) \nWir freuen uns auf euch! \nStiftung für Kinder- und Jugendarbeit in Hösel\nEvangelische Kirchengemeinde Hösel
URL:https://stiftung.dkws.de/event/mit-glauben-zum-ziel-von-der-ruhrquelle-nach-hoesel/
LOCATION:Evangelisches Gemeindehaus Hösel\, Bahnhofstr. 175\, Ratingen\, 40883\, Deutschland
CATEGORIES:Mit Glauben zum Ziel
ATTACH;FMTTYPE=image/jpeg:https://stiftung.dkws.de/wp-content/uploads/2024/03/MGzZ2.jpg
ORGANIZER;CN="Stiftung Kinder- und Jugendarbeit":MAILTO:veranstaltungen@stiftung-hoesel.de
END:VEVENT
END:VCALENDAR