BEGIN:VCALENDAR
VERSION:2.0
PRODID:-//Stiftung Kinder- und Jugendarbeit - ECPv6.15.20//NONSGML v1.0//EN
CALSCALE:GREGORIAN
METHOD:PUBLISH
X-ORIGINAL-URL:https://stiftung.dkws.de
X-WR-CALDESC:Veranstaltungen für Stiftung Kinder- und Jugendarbeit
REFRESH-INTERVAL;VALUE=DURATION:PT1H
X-Robots-Tag:noindex
X-PUBLISHED-TTL:PT1H
BEGIN:VTIMEZONE
TZID:Europe/Berlin
BEGIN:DAYLIGHT
TZOFFSETFROM:+0100
TZOFFSETTO:+0200
TZNAME:CEST
DTSTART:20200329T010000
END:DAYLIGHT
BEGIN:STANDARD
TZOFFSETFROM:+0200
TZOFFSETTO:+0100
TZNAME:CET
DTSTART:20201025T010000
END:STANDARD
BEGIN:DAYLIGHT
TZOFFSETFROM:+0100
TZOFFSETTO:+0200
TZNAME:CEST
DTSTART:20210328T010000
END:DAYLIGHT
BEGIN:STANDARD
TZOFFSETFROM:+0200
TZOFFSETTO:+0100
TZNAME:CET
DTSTART:20211031T010000
END:STANDARD
BEGIN:DAYLIGHT
TZOFFSETFROM:+0100
TZOFFSETTO:+0200
TZNAME:CEST
DTSTART:20220327T010000
END:DAYLIGHT
BEGIN:STANDARD
TZOFFSETFROM:+0200
TZOFFSETTO:+0100
TZNAME:CET
DTSTART:20221030T010000
END:STANDARD
END:VTIMEZONE
BEGIN:VEVENT
DTSTART;TZID=Europe/Berlin:20210427T200000
DTEND;TZID=Europe/Berlin:20210427T213000
DTSTAMP:20260426T004754
CREATED:20210324T143330Z
LAST-MODIFIED:20210324T143330Z
UID:204-1619553600-1619559000@stiftung.dkws.de
SUMMARY:ABGESAGT: Vortrag: Geschichte einer Sprache
DESCRIPTION:Soweit es die Corona-Schutzmaßnahmen zulassen\, hält Dr. Roth einen Vortrag zum Thema \nGeschichte einer Sprache – deutsche Poesie und germanische Sprachdenkmäler \nEintritt frei – Spende erbeten
URL:https://stiftung.dkws.de/event/vortrag-geschichte-einer-sprache/
LOCATION:Evangelisches Gemeindehaus Hösel\, Bahnhofstr. 175\, Ratingen\, 40883\, Deutschland
CATEGORIES:Vorträge
ORGANIZER;CN="Stiftung Kinder- und Jugendarbeit":MAILTO:veranstaltungen@stiftung-hoesel.de
END:VEVENT
END:VCALENDAR