BEGIN:VCALENDAR
VERSION:2.0
PRODID:-//Stiftung Kinder- und Jugendarbeit - ECPv6.15.20//NONSGML v1.0//EN
CALSCALE:GREGORIAN
METHOD:PUBLISH
X-WR-CALNAME:Stiftung Kinder- und Jugendarbeit
X-ORIGINAL-URL:https://stiftung.dkws.de
X-WR-CALDESC:Veranstaltungen für Stiftung Kinder- und Jugendarbeit
REFRESH-INTERVAL;VALUE=DURATION:PT1H
X-Robots-Tag:noindex
X-PUBLISHED-TTL:PT1H
BEGIN:VTIMEZONE
TZID:Europe/Berlin
BEGIN:DAYLIGHT
TZOFFSETFROM:+0100
TZOFFSETTO:+0200
TZNAME:CEST
DTSTART:20240331T010000
END:DAYLIGHT
BEGIN:STANDARD
TZOFFSETFROM:+0200
TZOFFSETTO:+0100
TZNAME:CET
DTSTART:20241027T010000
END:STANDARD
BEGIN:DAYLIGHT
TZOFFSETFROM:+0100
TZOFFSETTO:+0200
TZNAME:CEST
DTSTART:20250330T010000
END:DAYLIGHT
BEGIN:STANDARD
TZOFFSETFROM:+0200
TZOFFSETTO:+0100
TZNAME:CET
DTSTART:20251026T010000
END:STANDARD
BEGIN:DAYLIGHT
TZOFFSETFROM:+0100
TZOFFSETTO:+0200
TZNAME:CEST
DTSTART:20260329T010000
END:DAYLIGHT
BEGIN:STANDARD
TZOFFSETFROM:+0200
TZOFFSETTO:+0100
TZNAME:CET
DTSTART:20261025T010000
END:STANDARD
END:VTIMEZONE
BEGIN:VEVENT
DTSTART;VALUE=DATE:20250921
DTEND;VALUE=DATE:20250922
DTSTAMP:20260422T192132
CREATED:20250317T123153Z
LAST-MODIFIED:20250317T123153Z
UID:488-1758412800-1758499199@stiftung.dkws.de
SUMMARY:Familienrallye
DESCRIPTION:Informationen folgen
URL:https://stiftung.dkws.de/event/familienrallye-2/
LOCATION:Evangelisches Gemeindehaus Hösel\, Bahnhofstr. 175\, Ratingen\, 40883\, Deutschland
CATEGORIES:Angebote der Stiftung
ORGANIZER;CN="Stiftung Kinder- und Jugendarbeit":MAILTO:veranstaltungen@stiftung-hoesel.de
END:VEVENT
END:VCALENDAR